BEGIN:VCALENDAR
VERSION:2.0
PRODID:spatie/icalendar-generator
NAME:Phil Venticinque for Franklin Township Committee
X-WR-CALNAME:Phil Venticinque for Franklin Township Committee
DESCRIPTION:Events for Phil Venticinque for Franklin Township Committee
X-WR-CALDESC:Events for Phil Venticinque for Franklin Township Committee
BEGIN:VEVENT
UID:105-1775311200-1775316600@philforfranklin.com
SUMMARY:Let’s Get Together\, Franklin Township! Community Coffee & Conver
 sation
DESCRIPTION:Let's build a united Franklin! Join Phil Venticinque and fellow
  neighbors for a morning of fresh coffee\, pastries\, and great conversati
 on. This is a completely free\, family-friendly meet-and-greet to connect 
 with residents\, share ideas\, and talk about the future of our community.
  Room capacity is strictly limited\, so please RSVP online to reserve your
  seat!
LOCATION:1584 Coles Mill Rd\, Franklinville\, NJ 08322
URL:https://philforfranklin.com/event/lets-get-together-franklin-township-c
 ommunity-coffee-conversation/
DTSTART;TZID=America/New_York:20260404T100000
DTEND;TZID=America/New_York:20260404T113000
DTSTAMP;TZID=UTC:20260421T114825
END:VEVENT
END:VCALENDAR